BEGIN:VCALENDAR
VERSION:2.0
PRODID:-//ChamberMaster//Event Calendar 2.0//EN
METHOD:PUBLISH
X-PUBLISHED-TTL:P1H
REFRESH-INTERVAL:P1H
CALSCALE:GREGORIAN
BEGIN:VTIMEZONE
TZID:America/Los_Angeles
BEGIN:DAYLIGHT
RRULE:FREQ=YEARLY;BYMONTH=3;BYDAY=2SU
DTSTART:20070101T000000
TZOFFSETFROM:-0800
TZOFFSETTO:-0700
TZNAME:Pacific Daylight Time
END:DAYLIGHT
BEGIN:STANDARD
RRULE:FREQ=YEARLY;BYMONTH=11;BYDAY=1SU
DTSTART:20070101T000000
TZOFFSETFROM:-0700
TZOFFSETTO:-0800
TZNAME:Pacific Standard Time
END:STANDARD
END:VTIMEZONE
BEGIN:VEVENT
DTSTART;TZID=America/Los_Angeles:20260512T110000
DTEND;TZID=America/Los_Angeles:20260512T130000
X-MICROSOFT-CDO-ALLDAYEVENT:FALSE
SUMMARY:The Hands That Heal: Care for the Caregiver Wellness Summit + Speaker Serie
DESCRIPTION:Join us in person to recharge and connect at The Hands That Heal: Care for the Caregiver Wellness Summit!As part of our 75th Anniversary\, Central Coast VNA & Hospice invites you to a meaningful community event designed to support and connect our community of caregivers.This is one of three special events VNA is hosting as part of this milestone celebration. A special\, free event for anyone who has been\, is currently\, or will one day be a caregiver. Enjoy complimentary food and beverages\, enter to win raffle prizes\, and explore information resource tables featuring local organizations and services dedicated to supporting caregivers.\nA Conversation That MattersThis is not a lecture it's a thoughtfully curated\, human-centered panel discussion featuring 3 speakers. Through guided conversation and audience Q&A\, panelists will share real-life experiences\, insights\, and practical tools.
X-ALT-DESC;FMTTYPE=text/html:<!DOCTYPE html><html><head><title></title></head><body aria-disabled="false"><div data-testid="text-content" style='box-sizing: border-box\; padding: 0px\; margin: 0px\; color: rgb(88\, 81\, 99)\; align-self: stretch\; overflow: hidden\; text-overflow: ellipsis\; font-weight: 400\; line-height: 23.94px\; letter-spacing: 0.1px\; font-size: 18px\; font-family: "Neue Plak"\, -apple-system\, BlinkMacSystemFont\, Roboto\, "Helvetica Neue"\, Helvetica\, Tahoma\, Arial\, sans-serif\; font-style: normal\; font-variant-ligatures: normal\; font-variant-caps: normal\; orphans: 2\; text-align: start\; text-indent: 0px\; text-transform: none\; widows: 2\; word-spacing: 0px\; -webkit-text-stroke-width: 0px\; white-space: normal\; text-decoration-thickness: initial\; text-decoration-style: initial\; text-decoration-color: initial\;'><div style="box-sizing: border-box\; padding: 0px\; margin: 0px\;"><p style="box-sizing: border-box\; padding: 0px 0px 12px\; margin: 0px\;">Join us in person to recharge and connect at The Hands That Heal: Care for the Caregiver Wellness Summit!</p></div></div><div data-testid="text-content" style='box-sizing: border-box\; padding: 0px\; margin: 0px\; color: rgb(88\, 81\, 99)\; align-self: stretch\; overflow: hidden\; text-overflow: ellipsis\; font-weight: 400\; line-height: 23.94px\; letter-spacing: 0.1px\; font-size: 18px\; font-family: "Neue Plak"\, -apple-system\, BlinkMacSystemFont\, Roboto\, "Helvetica Neue"\, Helvetica\, Tahoma\, Arial\, sans-serif\; font-style: normal\; font-variant-ligatures: normal\; font-variant-caps: normal\; orphans: 2\; text-align: start\; text-indent: 0px\; text-transform: none\; widows: 2\; word-spacing: 0px\; -webkit-text-stroke-width: 0px\; white-space: normal\; text-decoration-thickness: initial\; text-decoration-style: initial\; text-decoration-color: initial\;'><div style="box-sizing: border-box\; padding: 0px\; margin: 0px\;"><p style="box-sizing: border-box\; padding: 0px 0px 12px\; margin: 0px\;">As part of our&nbsp\;<strong fr-original-style="box-sizing: border-box\; padding: 0px\; margin: 0px\; font-weight: 600\;" style="box-sizing: border-box\; padding: 0px\; margin: 0px\; font-weight: 600\;"><strong fr-original-style="box-sizing: border-box\; padding: 0px\; margin: 0px\; font-weight: 600\;" style="box-sizing: border-box\; padding: 0px\; margin: 0px\; font-weight: 600\;">75th Anniversary</strong></strong>\, Central Coast&nbsp\;<strong fr-original-style="box-sizing: border-box\; padding: 0px\; margin: 0px\; font-weight: 600\;" style="box-sizing: border-box\; padding: 0px\; margin: 0px\; font-weight: 600\;"><strong fr-original-style="box-sizing: border-box\; padding: 0px\; margin: 0px\; font-weight: 600\;" style="box-sizing: border-box\; padding: 0px\; margin: 0px\; font-weight: 600\;">VNA</strong></strong> &amp\; Hospice invites you to a meaningful community event designed to&nbsp\;<strong fr-original-style="box-sizing: border-box\; padding: 0px\; margin: 0px\; font-weight: 600\;" style="box-sizing: border-box\; padding: 0px\; margin: 0px\; font-weight: 600\;"><strong fr-original-style="box-sizing: border-box\; padding: 0px\; margin: 0px\; font-weight: 600\;" style="box-sizing: border-box\; padding: 0px\; margin: 0px\; font-weight: 600\;">support and connect our community of caregivers.</strong></strong></p><p style="box-sizing: border-box\; padding: 0px 0px 12px\; margin: 12px 0px 0px\;">This is one of<strong fr-original-style="box-sizing: border-box\; padding: 0px\; margin: 0px\; font-weight: 600\;" style="box-sizing: border-box\; padding: 0px\; margin: 0px\; font-weight: 600\;"><strong fr-original-style="box-sizing: border-box\; padding: 0px\; margin: 0px\; font-weight: 600\;" style="box-sizing: border-box\; padding: 0px\; margin: 0px\; font-weight: 600\;">&nbsp\;three special events</strong></strong> VNA is hosting as part of this milestone celebration. A special\,&nbsp\;<strong fr-original-style="box-sizing: border-box\; padding: 0px\; margin: 0px\; font-weight: 600\;" style="box-sizing: border-box\; padding: 0px\; margin: 0px\; font-weight: 600\;"><strong fr-original-style="box-sizing: border-box\; padding: 0px\; margin: 0px\; font-weight: 600\;" style="box-sizing: border-box\; padding: 0px\; margin: 0px\; font-weight: 600\;">free</strong></strong> event for anyone who has been\, is currently\, or will one day be a caregiver. Enjoy&nbsp\;<strong fr-original-style="box-sizing: border-box\; padding: 0px\; margin: 0px\; font-weight: 600\;" style="box-sizing: border-box\; padding: 0px\; margin: 0px\; font-weight: 600\;"><strong fr-original-style="box-sizing: border-box\; padding: 0px\; margin: 0px\; font-weight: 600\;" style="box-sizing: border-box\; padding: 0px\; margin: 0px\; font-weight: 600\;">complimentary food and beverages</strong></strong>\, enter to win&nbsp\;<strong fr-original-style="box-sizing: border-box\; padding: 0px\; margin: 0px\; font-weight: 600\;" style="box-sizing: border-box\; padding: 0px\; margin: 0px\; font-weight: 600\;"><strong fr-original-style="box-sizing: border-box\; padding: 0px\; margin: 0px\; font-weight: 600\;" style="box-sizing: border-box\; padding: 0px\; margin: 0px\; font-weight: 600\;">raffle prizes</strong></strong>\, and explore<strong fr-original-style="box-sizing: border-box\; padding: 0px\; margin: 0px\; font-weight: 600\;" style="box-sizing: border-box\; padding: 0px\; margin: 0px\; font-weight: 600\;"><strong fr-original-style="box-sizing: border-box\; padding: 0px\; margin: 0px\; font-weight: 600\;" style="box-sizing: border-box\; padding: 0px\; margin: 0px\; font-weight: 600\;">&nbsp\;information resource tables</strong></strong> featuring local organizations and services dedicated to supporting caregivers.</p><p style="box-sizing: border-box\; padding: 0px 0px 12px\; margin: 12px 0px 0px\;"><br style="box-sizing: border-box\; padding: 0px\; margin: 0px\;"></p><h2 style="box-sizing: border-box\; padding: 0px\; margin: 0px\;">A Conversation That Matters</h2><p style="box-sizing: border-box\; padding: 0px 0px 12px\; margin: 12px 0px 0px\;">This is not a lecture&mdash\;it&rsquo\;s a thoughtfully curated\, human-centered panel discussion featuring 3 speakers. Through guided conversation and audience Q&amp\;A\, panelists will share real-life experiences\, insights\, and practical tools.</p></div></div></body></html>
LOCATION:
UID:e.1044.1448683
SEQUENCE:3
DTSTAMP:20260423T181546Z
URL:https://salinasvalleychamberofcommerce.growthzoneapp.com/chamber-event-calendar/Details/the-hands-that-heal-care-for-the-caregiver-wellness-summit-speaker-serie-1715888?sourceTypeId=Hub
END:VEVENT
END:VCALENDAR
